BEGIN:VCALENDAR
VERSION:2.0
PRODID:-//zorgtransformatie - ECPv6.15.18//NONSGML v1.0//EN
CALSCALE:GREGORIAN
METHOD:PUBLISH
X-WR-CALNAME:zorgtransformatie
X-ORIGINAL-URL:https://www.zorgtransformatie.nl
X-WR-CALDESC:Evenementen voor zorgtransformatie
REFRESH-INTERVAL;VALUE=DURATION:PT1H
X-Robots-Tag:noindex
X-PUBLISHED-TTL:PT1H
BEGIN:VTIMEZONE
TZID:Europe/Paris
BEGIN:DAYLIGHT
TZOFFSETFROM:+0100
TZOFFSETTO:+0200
TZNAME:CEST
DTSTART:20220327T010000
END:DAYLIGHT
BEGIN:STANDARD
TZOFFSETFROM:+0200
TZOFFSETTO:+0100
TZNAME:CET
DTSTART:20221030T010000
END:STANDARD
BEGIN:DAYLIGHT
TZOFFSETFROM:+0100
TZOFFSETTO:+0200
TZNAME:CEST
DTSTART:20230326T010000
END:DAYLIGHT
BEGIN:STANDARD
TZOFFSETFROM:+0200
TZOFFSETTO:+0100
TZNAME:CET
DTSTART:20231029T010000
END:STANDARD
BEGIN:DAYLIGHT
TZOFFSETFROM:+0100
TZOFFSETTO:+0200
TZNAME:CEST
DTSTART:20240331T010000
END:DAYLIGHT
BEGIN:STANDARD
TZOFFSETFROM:+0200
TZOFFSETTO:+0100
TZNAME:CET
DTSTART:20241027T010000
END:STANDARD
BEGIN:DAYLIGHT
TZOFFSETFROM:+0100
TZOFFSETTO:+0200
TZNAME:CEST
DTSTART:20250330T010000
END:DAYLIGHT
BEGIN:STANDARD
TZOFFSETFROM:+0200
TZOFFSETTO:+0100
TZNAME:CET
DTSTART:20251026T010000
END:STANDARD
END:VTIMEZONE
BEGIN:VEVENT
DTSTART;TZID=Europe/Paris:20231123T143000
DTEND;TZID=Europe/Paris:20240131T180000
DTSTAMP:20260422T030340
CREATED:20220401T110358Z
LAST-MODIFIED:20231126T183844Z
UID:776-1700749800-1706724000@www.zorgtransformatie.nl
SUMMARY:‘Samen verkennen’
DESCRIPTION:Kopstukken uit de zorg over de kritische succesfactoren bij zorgtransformatie.Dit event is alleen op persoonlijke uitnodiging.
URL:https://www.zorgtransformatie.nl/event/samen-verkennen/
LOCATION:Ministerie van VWS\, Parnassusplein 5\, Den Haag\, 2511VX
ORGANIZER;CN="Zorgtransformatie.nl":MAILTO:info@zorgtransformatie.nl
END:VEVENT
END:VCALENDAR